View In:
ArcGIS JavaScript
ArcGIS Online Map Viewer
ArcGIS Earth
ArcGIS Pro
Service Description: PGT di Gavirate - Tavola C3 - Indicazioni d'intervento nel centro storico e nei nuclei di antica formazione
Map Name: pgt_c3
Legend
All Layers and Tables
Dynamic Legend
Dynamic All Layers
Layers:
Description: PGT di Gavirate - Tavola C3 - Indicazioni d'intervento nel centro storico e nei nuclei di antica formazione
Copyright Text:
Spatial Reference:
102100
(3857)
LatestVCSWkid(0)
Single Fused Map Cache: true
Tile Info:
- Height: 256
- Width: 256
- DPI: 96
-
Levels of Detail: 24
-
Level ID: 1
[ Start Tile, End Tile ]
- Resolution: 78271.5169639999
- Scale: 2.95828763795777E8
-
Level ID: 2
[ Start Tile, End Tile ]
- Resolution: 39135.7584820001
- Scale: 1.47914381897889E8
-
Level ID: 3
[ Start Tile, End Tile ]
- Resolution: 19567.8792409999
- Scale: 7.3957190948944E7
-
Level ID: 4
[ Start Tile, End Tile ]
- Resolution: 9783.93962049996
- Scale: 3.6978595474472E7
-
Level ID: 5
[ Start Tile, End Tile ]
- Resolution: 4891.96981024998
- Scale: 1.8489297737236E7
- Format: PNG
- Compression Quality: 0.0
- Origin: X: -2.0037508342787E7
Y: 2.0037508342787E7
- Spatial Reference: 102100
(3857)
LatestVCSWkid(0)
Storage Info:
- Storage Format: esriMapCacheStorageModeCompactV2
- Packet Size: 128
Initial Extent:
XMin: 965078.2894332093
YMin: 5751273.9073552145
XMax: 977457.454165791
YMax: 5760162.081138142
Spatial Reference: 102100
(3857)
LatestVCSWkid(0)
Full Extent:
XMin: 966204.9291746082
YMin: 5751273.9073552145
XMax: 976330.8144243921
YMax: 5760162.081138143
Spatial Reference: 102100
(3857)
LatestVCSWkid(0)
Units: esriMeters
Supported Image Format Types: PNG32,PNG24,PNG,JPG,DIB,TIFF,EMF,PS,PDF,GIF,SVG,SVGZ,BMP
Document Info:
Title: Tavola C3 - Nuclei di antica formazione
Author:
Comments: PGT di Gavirate - Tavola C3 - Indicazioni d'intervento nel centro storico e nei nuclei di antica formazione
Subject: Tavola C3 - Indicazioni d'intervento nel centro storico e nei nuclei di antica formazione
Category:
Keywords: Gavirate
AntialiasingMode: Fast
TextAntialiasingMode: Force
Supports Dynamic Layers: true
MaxRecordCount: 2000
MaxImageHeight: 4096
MaxImageWidth: 4096
Supported Query Formats: JSON, geoJSON, PBF
Supports Query Data Elements: true
Min Scale: 5.91657527591555E8
Max Scale: 564.248588
Min LOD: 0
Max LOD: 19
Supports Datum Transformation: true
Child Resources:
Info
Dynamic Layer
Supported Operations:
Export Map
Identify
QueryLegends
QueryDomains
Find
Return Updates