View In:
ArcGIS JavaScript
ArcGIS Online Map Viewer
ArcGIS Earth
ArcGIS Pro
Service Description: Comune di Angri - Piano Urbanistico Comunale - Tavola 1.8 - Mobilità a scala comunale e perimetrazione del Centro abitato
Map Name: PUC_1_8_mobilita
Legend
All Layers and Tables
Dynamic Legend
Dynamic All Layers
Layers:
Description: Comune di Angri - Piano Urbanistico Comunale - Tavola 1.8 - Mobilità a scala comunale e perimetrazione del Centro abitato
Copyright Text:
Spatial Reference:
102100
(3857)
LatestVCSWkid(0)
Single Fused Map Cache: true
Tile Info:
- Height: 256
- Width: 256
- DPI: 96
-
Levels of Detail: 24
-
Level ID: 1
[ Start Tile, End Tile ]
- Resolution: 78271.5169639999
- Scale: 2.95828763795777E8
-
Level ID: 2
[ Start Tile, End Tile ]
- Resolution: 39135.7584820001
- Scale: 1.47914381897889E8
-
Level ID: 3
[ Start Tile, End Tile ]
- Resolution: 19567.8792409999
- Scale: 7.3957190948944E7
-
Level ID: 4
[ Start Tile, End Tile ]
- Resolution: 9783.93962049996
- Scale: 3.6978595474472E7
-
Level ID: 5
[ Start Tile, End Tile ]
- Resolution: 4891.96981024998
- Scale: 1.8489297737236E7
- Format: PNG
- Compression Quality: 0.0
- Origin: X: -2.0037508342787E7
Y: 2.0037508342787E7
- Spatial Reference: 102100
(3857)
LatestVCSWkid(0)
Storage Info:
- Storage Format: esriMapCacheStorageModeCompactV2
- Packet Size: 128
Initial Extent:
XMin: 1615160.4688853584
YMin: 4969129.10649259
XMax: 1627378.8409545952
YMax: 4979017.234040044
Spatial Reference: 102100
(3857)
LatestVCSWkid(0)
Full Extent:
XMin: 1616407.3106264689
YMin: 4969129.10649259
XMax: 1626131.9992134848
YMax: 4979017.234040045
Spatial Reference: 102100
(3857)
LatestVCSWkid(0)
Units: esriMeters
Supported Image Format Types: PNG32,PNG24,PNG,JPG,DIB,TIFF,EMF,PS,PDF,GIF,SVG,SVGZ,BMP
Document Info:
Title: Untitled.aprx
Author:
Comments: Comune di Angri - Piano Urbanistico Comunale - Tavola 1.8 - Mobilità a scala comunale e perimetrazione del Centro abitato
Subject: Tav. 1.8 - Mobilità a scala comunale e perimetrazione del Centro abitato
Category:
Keywords: Angri
AntialiasingMode: Fast
TextAntialiasingMode: Force
Supports Dynamic Layers: true
MaxRecordCount: 2000
MaxImageHeight: 4096
MaxImageWidth: 4096
Supported Query Formats: JSON, geoJSON, PBF
Supports Query Data Elements: true
Min Scale: 5.91657527591555E8
Max Scale: 564.248588
Min LOD: 0
Max LOD: 19
Supports Datum Transformation: true
Child Resources:
Info
Dynamic Layer
Supported Operations:
Export Map
Identify
QueryLegends
QueryDomains
Find
Return Updates